BEGIN:VCALENDAR
VERSION:2.0
PRODID:-//Contratero//ES
CALSCALE:GREGORIAN
METHOD:PUBLISH
BEGIN:VEVENT
UID:CD 68 2022 06@contratero.es
DTSTAMP:20260424T174716Z
DTSTART:20230428T235959
DTEND:20230429T005959
SUMMARY:Cierre: Suministro de certificados electrónicos cualificad
DESCRIPTION:Suministro de certificados electrónicos cualificados para la comunicación electrónico con las Administración Públicas y de Representante Legal de la Empresa\\n\\nOrganismo: Gerencia de la Empresa Municipal de Aguas y Saneamiento de Murcia S.A.\\n\\nVer en Contratero: https://contratero.es/contracts/CD 68 2022 06
URL:https://contratero.es/contracts/CD 68 2022 06
STATUS:CONFIRMED
BEGIN:VALARM
TRIGGER:-P1D
ACTION:DISPLAY
DESCRIPTION:Recordatorio: Suministro de certificados ele
END:VALARM
END:VEVENT
END:VCALENDAR